BEGIN:VCALENDAR
VERSION:2.0
PRODID:-//Cincinnati NAACP - ECPv6.15.19//NONSGML v1.0//EN
CALSCALE:GREGORIAN
METHOD:PUBLISH
X-ORIGINAL-URL:https://cincinnatinaacp.com
X-WR-CALDESC:Events for Cincinnati NAACP
REFRESH-INTERVAL;VALUE=DURATION:PT1H
X-Robots-Tag:noindex
X-PUBLISHED-TTL:PT1H
BEGIN:VTIMEZONE
TZID:America/New_York
BEGIN:DAYLIGHT
TZOFFSETFROM:-0500
TZOFFSETTO:-0400
TZNAME:EDT
DTSTART:20230312T070000
END:DAYLIGHT
BEGIN:STANDARD
TZOFFSETFROM:-0400
TZOFFSETTO:-0500
TZNAME:EST
DTSTART:20231105T060000
END:STANDARD
BEGIN:DAYLIGHT
TZOFFSETFROM:-0500
TZOFFSETTO:-0400
TZNAME:EDT
DTSTART:20240310T070000
END:DAYLIGHT
BEGIN:STANDARD
TZOFFSETFROM:-0400
TZOFFSETTO:-0500
TZNAME:EST
DTSTART:20241103T060000
END:STANDARD
BEGIN:DAYLIGHT
TZOFFSETFROM:-0500
TZOFFSETTO:-0400
TZNAME:EDT
DTSTART:20250309T070000
END:DAYLIGHT
BEGIN:STANDARD
TZOFFSETFROM:-0400
TZOFFSETTO:-0500
TZNAME:EST
DTSTART:20251102T060000
END:STANDARD
END:VTIMEZONE
BEGIN:VEVENT
DTSTART;TZID=America/New_York:20240605T170000
DTEND;TZID=America/New_York:20240605T180000
DTSTAMP:20260422T090817
CREATED:20230511T145332Z
LAST-MODIFIED:20230511T145332Z
UID:10000545-1717606800-1717610400@cincinnatinaacp.com
SUMMARY:Housing Committee Meeting
DESCRIPTION:
URL:https://cincinnatinaacp.com/calendar/housing-committee-meeting-2/2024-06-05/
LOCATION:Zoom
CATEGORIES:Meetings
END:VEVENT
BEGIN:VEVENT
DTSTART;TZID=America/New_York:20240605T180000
DTEND;TZID=America/New_York:20240605T200000
DTSTAMP:20260422T090817
CREATED:20240603T221557Z
LAST-MODIFIED:20240603T221557Z
UID:10001393-1717610400-1717617600@cincinnatinaacp.com
SUMMARY:Mobile Unit Pop Up – Walnut Hills
DESCRIPTION:Please check Facebook for locations.
URL:https://cincinnatinaacp.com/calendar/mobile-unit-pop-up-walnut-hills/
LOCATION:OH
CATEGORIES:Mobile Unit Pop Ups
ATTACH;FMTTYPE=image/png:https://cincinnatinaacp.com/wp-content/uploads/2024/02/mobileunit.png
END:VEVENT
BEGIN:VEVENT
DTSTART;TZID=America/New_York:20240605T180000
DTEND;TZID=America/New_York:20240605T200000
DTSTAMP:20260422T090817
CREATED:20240603T221642Z
LAST-MODIFIED:20240603T221720Z
UID:10001394-1717610400-1717617600@cincinnatinaacp.com
SUMMARY:Mobile Unit Pop Up – Evanston
DESCRIPTION:Please check Facebook for locations.
URL:https://cincinnatinaacp.com/calendar/mobile-unit-pop-up-evanston/
LOCATION:OH
CATEGORIES:Mobile Unit Pop Ups
ATTACH;FMTTYPE=image/png:https://cincinnatinaacp.com/wp-content/uploads/2024/02/mobileunit.png
END:VEVENT
BEGIN:VEVENT
DTSTART;TZID=America/New_York:20240605T180000
DTEND;TZID=America/New_York:20240605T200000
DTSTAMP:20260422T090817
CREATED:20240603T221743Z
LAST-MODIFIED:20240603T221743Z
UID:10001395-1717610400-1717617600@cincinnatinaacp.com
SUMMARY:Mobile Unit Pop Up – Avondale
DESCRIPTION:Please check Facebook for locations.
URL:https://cincinnatinaacp.com/calendar/mobile-unit-pop-up-avondale/
LOCATION:OH
CATEGORIES:Mobile Unit Pop Ups
ATTACH;FMTTYPE=image/png:https://cincinnatinaacp.com/wp-content/uploads/2024/02/mobileunit.png
END:VEVENT
END:VCALENDAR