BEGIN:VCALENDAR
VERSION:2.0
PRODID:-//Cincinnati NAACP - ECPv6.15.19//NONSGML v1.0//EN
CALSCALE:GREGORIAN
METHOD:PUBLISH
X-ORIGINAL-URL:https://cincinnatinaacp.com
X-WR-CALDESC:Events for Cincinnati NAACP
REFRESH-INTERVAL;VALUE=DURATION:PT1H
X-Robots-Tag:noindex
X-PUBLISHED-TTL:PT1H
BEGIN:VTIMEZONE
TZID:America/New_York
BEGIN:DAYLIGHT
TZOFFSETFROM:-0500
TZOFFSETTO:-0400
TZNAME:EDT
DTSTART:20250309T070000
END:DAYLIGHT
BEGIN:STANDARD
TZOFFSETFROM:-0400
TZOFFSETTO:-0500
TZNAME:EST
DTSTART:20251102T060000
END:STANDARD
BEGIN:DAYLIGHT
TZOFFSETFROM:-0500
TZOFFSETTO:-0400
TZNAME:EDT
DTSTART:20260308T070000
END:DAYLIGHT
BEGIN:STANDARD
TZOFFSETFROM:-0400
TZOFFSETTO:-0500
TZNAME:EST
DTSTART:20261101T060000
END:STANDARD
BEGIN:DAYLIGHT
TZOFFSETFROM:-0500
TZOFFSETTO:-0400
TZNAME:EDT
DTSTART:20270314T070000
END:DAYLIGHT
BEGIN:STANDARD
TZOFFSETFROM:-0400
TZOFFSETTO:-0500
TZNAME:EST
DTSTART:20271107T060000
END:STANDARD
END:VTIMEZONE
BEGIN:VEVENT
DTSTART;TZID=America/New_York:20260425T110000
DTEND;TZID=America/New_York:20260425T160000
DTSTAMP:20260420T101449
CREATED:20251117T183334Z
LAST-MODIFIED:20251117T183355Z
UID:10001884-1777114800-1777132800@cincinnatinaacp.com
SUMMARY:Local Competition
DESCRIPTION:Deadline for all written submissions – Friday April 10th @ midnight
URL:https://cincinnatinaacp.com/calendar/local-competition/
LOCATION:Winton Woods\, 10245 Winton Rd\,\, Cincinnati\, OH\, 45231\, United States
CATEGORIES:Meetings
END:VEVENT
END:VCALENDAR