BEGIN:VCALENDAR
VERSION:2.0
PRODID:-//Cincinnati NAACP - ECPv6.15.19//NONSGML v1.0//EN
CALSCALE:GREGORIAN
METHOD:PUBLISH
X-ORIGINAL-URL:https://cincinnatinaacp.com
X-WR-CALDESC:Events for Cincinnati NAACP
REFRESH-INTERVAL;VALUE=DURATION:PT1H
X-Robots-Tag:noindex
X-PUBLISHED-TTL:PT1H
BEGIN:VTIMEZONE
TZID:America/New_York
BEGIN:DAYLIGHT
TZOFFSETFROM:-0500
TZOFFSETTO:-0400
TZNAME:EDT
DTSTART:20260308T070000
END:DAYLIGHT
BEGIN:STANDARD
TZOFFSETFROM:-0400
TZOFFSETTO:-0500
TZNAME:EST
DTSTART:20261101T060000
END:STANDARD
BEGIN:DAYLIGHT
TZOFFSETFROM:-0500
TZOFFSETTO:-0400
TZNAME:EDT
DTSTART:20270314T070000
END:DAYLIGHT
BEGIN:STANDARD
TZOFFSETFROM:-0400
TZOFFSETTO:-0500
TZNAME:EST
DTSTART:20271107T060000
END:STANDARD
BEGIN:DAYLIGHT
TZOFFSETFROM:-0500
TZOFFSETTO:-0400
TZNAME:EDT
DTSTART:20280312T070000
END:DAYLIGHT
BEGIN:STANDARD
TZOFFSETFROM:-0400
TZOFFSETTO:-0500
TZNAME:EST
DTSTART:20281105T060000
END:STANDARD
END:VTIMEZONE
BEGIN:VEVENT
DTSTART;TZID=America/New_York:20270511T180000
DTEND;TZID=America/New_York:20270511T190000
DTSTAMP:20260422T084826
CREATED:20240709T130139Z
LAST-MODIFIED:20240709T130139Z
UID:10001630-1810058400-1810062000@cincinnatinaacp.com
SUMMARY:Membership Committee Meeting
DESCRIPTION:
URL:https://cincinnatinaacp.com/calendar/membership-committee-meeting/2027-05-11/
LOCATION:Zoom
CATEGORIES:Meetings
END:VEVENT
BEGIN:VEVENT
DTSTART;TZID=America/New_York:20270512T180000
DTEND;TZID=America/New_York:20270512T183000
DTSTAMP:20260422T084826
CREATED:20230302T215038Z
LAST-MODIFIED:20230306T171937Z
UID:10000253-1810144800-1810146600@cincinnatinaacp.com
SUMMARY:Voter Empowerment Committee Meeting
DESCRIPTION:
URL:https://cincinnatinaacp.com/calendar/voter-empowerment-committee-meeting/2027-05-12/
LOCATION:Zoom
CATEGORIES:Meetings
END:VEVENT
BEGIN:VEVENT
DTSTART;TZID=America/New_York:20270513T180000
DTEND;TZID=America/New_York:20270513T190000
DTSTAMP:20260422T084826
CREATED:20230302T215233Z
LAST-MODIFIED:20230306T194029Z
UID:10000313-1810231200-1810234800@cincinnatinaacp.com
SUMMARY:Education Committee Meeting
DESCRIPTION:
URL:https://cincinnatinaacp.com/calendar/education-committee-meeting/2027-05-13/
LOCATION:Zoom
CATEGORIES:Meetings
END:VEVENT
BEGIN:VEVENT
DTSTART;TZID=America/New_York:20270513T183000
DTEND;TZID=America/New_York:20270513T193000
DTSTAMP:20260422T084826
CREATED:20230302T215446Z
LAST-MODIFIED:20230302T215446Z
UID:10000433-1810233000-1810236600@cincinnatinaacp.com
SUMMARY:Health Committee Meeting
DESCRIPTION:
URL:https://cincinnatinaacp.com/calendar/health-committee-meeting/2027-05-13/
LOCATION:Zoom
CATEGORIES:Meetings
END:VEVENT
BEGIN:VEVENT
DTSTART;TZID=America/New_York:20270513T190000
DTEND;TZID=America/New_York:20270513T200000
DTSTAMP:20260422T084826
CREATED:20240829T182950Z
LAST-MODIFIED:20240829T183110Z
UID:10001753-1810234800-1810238400@cincinnatinaacp.com
SUMMARY:ACT-SO Committee Meeting
DESCRIPTION:
URL:https://cincinnatinaacp.com/calendar/act-so-committee-meeting/2027-05-13/
LOCATION:Zoom
CATEGORIES:Meetings
END:VEVENT
BEGIN:VEVENT
DTSTART;TZID=America/New_York:20270518T180000
DTEND;TZID=America/New_York:20270518T190000
DTSTAMP:20260422T084826
CREATED:20250318T230237Z
LAST-MODIFIED:20250318T230239Z
UID:10001825-1810663200-1810666800@cincinnatinaacp.com
SUMMARY:Armed Services & Veteran Affairs Meeting
DESCRIPTION:
URL:https://cincinnatinaacp.com/calendar/armed-services-veteran-affairs-meeting-2/2027-05-18/
LOCATION:Zoom
CATEGORIES:Meetings
END:VEVENT
BEGIN:VEVENT
DTSTART;TZID=America/New_York:20270526T180000
DTEND;TZID=America/New_York:20270526T190000
DTSTAMP:20260422T084826
CREATED:20230306T193845Z
LAST-MODIFIED:20240703T023625Z
UID:10001444-1811354400-1811358000@cincinnatinaacp.com
SUMMARY:Environmental Climate Justice Committee Meeting
DESCRIPTION:
URL:https://cincinnatinaacp.com/calendar/environmental-climate-justice-committee-meeting/2027-05-26/
LOCATION:Zoom
CATEGORIES:Meetings
END:VEVENT
BEGIN:VEVENT
DTSTART;TZID=America/New_York:20270527T180000
DTEND;TZID=America/New_York:20270527T190000
DTSTAMP:20260422T084826
CREATED:20231108T135350Z
LAST-MODIFIED:20251117T182536Z
UID:10001179-1811440800-1811444400@cincinnatinaacp.com
SUMMARY:General Membership Meeting
DESCRIPTION:The Cincinnati NAACP Monthly General membership meetings will take place at 6:00pm on the Fourth Thursday of each month at the Community Action Agency with the exception of the November and December meetings.
URL:https://cincinnatinaacp.com/calendar/general-membership-meeting-6/2027-05-27/
LOCATION:Community Action Agency\, 1740 Langdon Farm Rd.\, Cincinnati\, OH\, 45237\, United States
CATEGORIES:General Membership,Meetings
END:VEVENT
BEGIN:VEVENT
DTSTART;TZID=America/New_York:20270602T170000
DTEND;TZID=America/New_York:20270602T180000
DTSTAMP:20260422T084826
CREATED:20230511T145332Z
LAST-MODIFIED:20230511T145332Z
UID:10000581-1811955600-1811959200@cincinnatinaacp.com
SUMMARY:Housing Committee Meeting
DESCRIPTION:
URL:https://cincinnatinaacp.com/calendar/housing-committee-meeting-2/2027-06-02/
LOCATION:Zoom
CATEGORIES:Meetings
END:VEVENT
BEGIN:VEVENT
DTSTART;TZID=America/New_York:20270608T180000
DTEND;TZID=America/New_York:20270608T190000
DTSTAMP:20260422T084826
CREATED:20240709T130139Z
LAST-MODIFIED:20240709T130139Z
UID:10001631-1812477600-1812481200@cincinnatinaacp.com
SUMMARY:Membership Committee Meeting
DESCRIPTION:
URL:https://cincinnatinaacp.com/calendar/membership-committee-meeting/2027-06-08/
LOCATION:Zoom
CATEGORIES:Meetings
END:VEVENT
BEGIN:VEVENT
DTSTART;TZID=America/New_York:20270609T180000
DTEND;TZID=America/New_York:20270609T183000
DTSTAMP:20260422T084826
CREATED:20230302T215038Z
LAST-MODIFIED:20230306T171937Z
UID:10000254-1812564000-1812565800@cincinnatinaacp.com
SUMMARY:Voter Empowerment Committee Meeting
DESCRIPTION:
URL:https://cincinnatinaacp.com/calendar/voter-empowerment-committee-meeting/2027-06-09/
LOCATION:Zoom
CATEGORIES:Meetings
END:VEVENT
BEGIN:VEVENT
DTSTART;TZID=America/New_York:20270610T180000
DTEND;TZID=America/New_York:20270610T190000
DTSTAMP:20260422T084826
CREATED:20230302T215233Z
LAST-MODIFIED:20230306T194029Z
UID:10000314-1812650400-1812654000@cincinnatinaacp.com
SUMMARY:Education Committee Meeting
DESCRIPTION:
URL:https://cincinnatinaacp.com/calendar/education-committee-meeting/2027-06-10/
LOCATION:Zoom
CATEGORIES:Meetings
END:VEVENT
BEGIN:VEVENT
DTSTART;TZID=America/New_York:20270610T183000
DTEND;TZID=America/New_York:20270610T193000
DTSTAMP:20260422T084826
CREATED:20230302T215446Z
LAST-MODIFIED:20230302T215446Z
UID:10000434-1812652200-1812655800@cincinnatinaacp.com
SUMMARY:Health Committee Meeting
DESCRIPTION:
URL:https://cincinnatinaacp.com/calendar/health-committee-meeting/2027-06-10/
LOCATION:Zoom
CATEGORIES:Meetings
END:VEVENT
BEGIN:VEVENT
DTSTART;TZID=America/New_York:20270610T190000
DTEND;TZID=America/New_York:20270610T200000
DTSTAMP:20260422T084826
CREATED:20240829T182950Z
LAST-MODIFIED:20240829T183110Z
UID:10001754-1812654000-1812657600@cincinnatinaacp.com
SUMMARY:ACT-SO Committee Meeting
DESCRIPTION:
URL:https://cincinnatinaacp.com/calendar/act-so-committee-meeting/2027-06-10/
LOCATION:Zoom
CATEGORIES:Meetings
END:VEVENT
BEGIN:VEVENT
DTSTART;TZID=America/New_York:20270615T180000
DTEND;TZID=America/New_York:20270615T190000
DTSTAMP:20260422T084826
CREATED:20250318T230237Z
LAST-MODIFIED:20250318T230239Z
UID:10001826-1813082400-1813086000@cincinnatinaacp.com
SUMMARY:Armed Services & Veteran Affairs Meeting
DESCRIPTION:
URL:https://cincinnatinaacp.com/calendar/armed-services-veteran-affairs-meeting-2/2027-06-15/
LOCATION:Zoom
CATEGORIES:Meetings
END:VEVENT
BEGIN:VEVENT
DTSTART;TZID=America/New_York:20270623T180000
DTEND;TZID=America/New_York:20270623T190000
DTSTAMP:20260422T084826
CREATED:20230306T193845Z
LAST-MODIFIED:20240703T023625Z
UID:10001445-1813773600-1813777200@cincinnatinaacp.com
SUMMARY:Environmental Climate Justice Committee Meeting
DESCRIPTION:
URL:https://cincinnatinaacp.com/calendar/environmental-climate-justice-committee-meeting/2027-06-23/
LOCATION:Zoom
CATEGORIES:Meetings
END:VEVENT
BEGIN:VEVENT
DTSTART;TZID=America/New_York:20270624T180000
DTEND;TZID=America/New_York:20270624T190000
DTSTAMP:20260422T084826
CREATED:20231108T135350Z
LAST-MODIFIED:20251117T182536Z
UID:10001180-1813860000-1813863600@cincinnatinaacp.com
SUMMARY:General Membership Meeting
DESCRIPTION:The Cincinnati NAACP Monthly General membership meetings will take place at 6:00pm on the Fourth Thursday of each month at the Community Action Agency with the exception of the November and December meetings.
URL:https://cincinnatinaacp.com/calendar/general-membership-meeting-6/2027-06-24/
LOCATION:Community Action Agency\, 1740 Langdon Farm Rd.\, Cincinnati\, OH\, 45237\, United States
CATEGORIES:General Membership,Meetings
END:VEVENT
BEGIN:VEVENT
DTSTART;TZID=America/New_York:20270707T170000
DTEND;TZID=America/New_York:20270707T180000
DTSTAMP:20260422T084826
CREATED:20230511T145332Z
LAST-MODIFIED:20230511T145332Z
UID:10000582-1814979600-1814983200@cincinnatinaacp.com
SUMMARY:Housing Committee Meeting
DESCRIPTION:
URL:https://cincinnatinaacp.com/calendar/housing-committee-meeting-2/2027-07-07/
LOCATION:Zoom
CATEGORIES:Meetings
END:VEVENT
BEGIN:VEVENT
DTSTART;TZID=America/New_York:20270708T180000
DTEND;TZID=America/New_York:20270708T190000
DTSTAMP:20260422T084826
CREATED:20230302T215233Z
LAST-MODIFIED:20230306T194029Z
UID:10000315-1815069600-1815073200@cincinnatinaacp.com
SUMMARY:Education Committee Meeting
DESCRIPTION:
URL:https://cincinnatinaacp.com/calendar/education-committee-meeting/2027-07-08/
LOCATION:Zoom
CATEGORIES:Meetings
END:VEVENT
BEGIN:VEVENT
DTSTART;TZID=America/New_York:20270708T183000
DTEND;TZID=America/New_York:20270708T193000
DTSTAMP:20260422T084826
CREATED:20230302T215446Z
LAST-MODIFIED:20230302T215446Z
UID:10000435-1815071400-1815075000@cincinnatinaacp.com
SUMMARY:Health Committee Meeting
DESCRIPTION:
URL:https://cincinnatinaacp.com/calendar/health-committee-meeting/2027-07-08/
LOCATION:Zoom
CATEGORIES:Meetings
END:VEVENT
BEGIN:VEVENT
DTSTART;TZID=America/New_York:20270708T190000
DTEND;TZID=America/New_York:20270708T200000
DTSTAMP:20260422T084826
CREATED:20240829T182950Z
LAST-MODIFIED:20240829T183110Z
UID:10001755-1815073200-1815076800@cincinnatinaacp.com
SUMMARY:ACT-SO Committee Meeting
DESCRIPTION:
URL:https://cincinnatinaacp.com/calendar/act-so-committee-meeting/2027-07-08/
LOCATION:Zoom
CATEGORIES:Meetings
END:VEVENT
BEGIN:VEVENT
DTSTART;TZID=America/New_York:20270713T180000
DTEND;TZID=America/New_York:20270713T190000
DTSTAMP:20260422T084826
CREATED:20240709T130139Z
LAST-MODIFIED:20240709T130139Z
UID:10001632-1815501600-1815505200@cincinnatinaacp.com
SUMMARY:Membership Committee Meeting
DESCRIPTION:
URL:https://cincinnatinaacp.com/calendar/membership-committee-meeting/2027-07-13/
LOCATION:Zoom
CATEGORIES:Meetings
END:VEVENT
BEGIN:VEVENT
DTSTART;TZID=America/New_York:20270714T180000
DTEND;TZID=America/New_York:20270714T183000
DTSTAMP:20260422T084826
CREATED:20230302T215038Z
LAST-MODIFIED:20230306T171937Z
UID:10000255-1815588000-1815589800@cincinnatinaacp.com
SUMMARY:Voter Empowerment Committee Meeting
DESCRIPTION:
URL:https://cincinnatinaacp.com/calendar/voter-empowerment-committee-meeting/2027-07-14/
LOCATION:Zoom
CATEGORIES:Meetings
END:VEVENT
BEGIN:VEVENT
DTSTART;TZID=America/New_York:20270720T180000
DTEND;TZID=America/New_York:20270720T190000
DTSTAMP:20260422T084826
CREATED:20250318T230237Z
LAST-MODIFIED:20250318T230239Z
UID:10001827-1816106400-1816110000@cincinnatinaacp.com
SUMMARY:Armed Services & Veteran Affairs Meeting
DESCRIPTION:
URL:https://cincinnatinaacp.com/calendar/armed-services-veteran-affairs-meeting-2/2027-07-20/
LOCATION:Zoom
CATEGORIES:Meetings
END:VEVENT
BEGIN:VEVENT
DTSTART;TZID=America/New_York:20270722T180000
DTEND;TZID=America/New_York:20270722T190000
DTSTAMP:20260422T084826
CREATED:20231108T135350Z
LAST-MODIFIED:20251117T182536Z
UID:10001181-1816279200-1816282800@cincinnatinaacp.com
SUMMARY:General Membership Meeting
DESCRIPTION:The Cincinnati NAACP Monthly General membership meetings will take place at 6:00pm on the Fourth Thursday of each month at the Community Action Agency with the exception of the November and December meetings.
URL:https://cincinnatinaacp.com/calendar/general-membership-meeting-6/2027-07-22/
LOCATION:Community Action Agency\, 1740 Langdon Farm Rd.\, Cincinnati\, OH\, 45237\, United States
CATEGORIES:General Membership,Meetings
END:VEVENT
BEGIN:VEVENT
DTSTART;TZID=America/New_York:20270728T180000
DTEND;TZID=America/New_York:20270728T190000
DTSTAMP:20260422T084826
CREATED:20230306T193845Z
LAST-MODIFIED:20240703T023625Z
UID:10001446-1816797600-1816801200@cincinnatinaacp.com
SUMMARY:Environmental Climate Justice Committee Meeting
DESCRIPTION:
URL:https://cincinnatinaacp.com/calendar/environmental-climate-justice-committee-meeting/2027-07-28/
LOCATION:Zoom
CATEGORIES:Meetings
END:VEVENT
BEGIN:VEVENT
DTSTART;TZID=America/New_York:20270730T100000
DTEND;TZID=America/New_York:20270730T130000
DTSTAMP:20260422T084826
CREATED:20230302T220026Z
LAST-MODIFIED:20230306T172526Z
UID:10000527-1816941600-1816952400@cincinnatinaacp.com
SUMMARY:One Stop ReEntry Program
DESCRIPTION:
URL:https://cincinnatinaacp.com/calendar/one-stop-reentry-program/2027-07-30/
LOCATION:Ohio Means Jobs\, 1916 Central Parkway\, Cincinnati\, 45214\, United States
CATEGORIES:Meetings
END:VEVENT
BEGIN:VEVENT
DTSTART;TZID=America/New_York:20270804T170000
DTEND;TZID=America/New_York:20270804T180000
DTSTAMP:20260422T084826
CREATED:20230511T145332Z
LAST-MODIFIED:20230511T145332Z
UID:10000583-1817398800-1817402400@cincinnatinaacp.com
SUMMARY:Housing Committee Meeting
DESCRIPTION:
URL:https://cincinnatinaacp.com/calendar/housing-committee-meeting-2/2027-08-04/
LOCATION:Zoom
CATEGORIES:Meetings
END:VEVENT
BEGIN:VEVENT
DTSTART;TZID=America/New_York:20270810T180000
DTEND;TZID=America/New_York:20270810T190000
DTSTAMP:20260422T084826
CREATED:20240709T130139Z
LAST-MODIFIED:20240709T130139Z
UID:10001633-1817920800-1817924400@cincinnatinaacp.com
SUMMARY:Membership Committee Meeting
DESCRIPTION:
URL:https://cincinnatinaacp.com/calendar/membership-committee-meeting/2027-08-10/
LOCATION:Zoom
CATEGORIES:Meetings
END:VEVENT
BEGIN:VEVENT
DTSTART;TZID=America/New_York:20270811T180000
DTEND;TZID=America/New_York:20270811T183000
DTSTAMP:20260422T084826
CREATED:20230302T215038Z
LAST-MODIFIED:20230306T171937Z
UID:10000256-1818007200-1818009000@cincinnatinaacp.com
SUMMARY:Voter Empowerment Committee Meeting
DESCRIPTION:
URL:https://cincinnatinaacp.com/calendar/voter-empowerment-committee-meeting/2027-08-11/
LOCATION:Zoom
CATEGORIES:Meetings
END:VEVENT
END:VCALENDAR