BEGIN:VCALENDAR
VERSION:2.0
PRODID:-//Cincinnati NAACP - ECPv6.15.19//NONSGML v1.0//EN
CALSCALE:GREGORIAN
METHOD:PUBLISH
X-WR-CALNAME:Cincinnati NAACP
X-ORIGINAL-URL:https://cincinnatinaacp.com
X-WR-CALDESC:Events for Cincinnati NAACP
REFRESH-INTERVAL;VALUE=DURATION:PT1H
X-Robots-Tag:noindex
X-PUBLISHED-TTL:PT1H
BEGIN:VTIMEZONE
TZID:America/New_York
BEGIN:DAYLIGHT
TZOFFSETFROM:-0500
TZOFFSETTO:-0400
TZNAME:EDT
DTSTART:20250309T070000
END:DAYLIGHT
BEGIN:STANDARD
TZOFFSETFROM:-0400
TZOFFSETTO:-0500
TZNAME:EST
DTSTART:20251102T060000
END:STANDARD
BEGIN:DAYLIGHT
TZOFFSETFROM:-0500
TZOFFSETTO:-0400
TZNAME:EDT
DTSTART:20260308T070000
END:DAYLIGHT
BEGIN:STANDARD
TZOFFSETFROM:-0400
TZOFFSETTO:-0500
TZNAME:EST
DTSTART:20261101T060000
END:STANDARD
BEGIN:DAYLIGHT
TZOFFSETFROM:-0500
TZOFFSETTO:-0400
TZNAME:EDT
DTSTART:20270314T070000
END:DAYLIGHT
BEGIN:STANDARD
TZOFFSETFROM:-0400
TZOFFSETTO:-0500
TZNAME:EST
DTSTART:20271107T060000
END:STANDARD
BEGIN:DAYLIGHT
TZOFFSETFROM:-0500
TZOFFSETTO:-0400
TZNAME:EDT
DTSTART:20280312T070000
END:DAYLIGHT
BEGIN:STANDARD
TZOFFSETFROM:-0400
TZOFFSETTO:-0500
TZNAME:EST
DTSTART:20281105T060000
END:STANDARD
BEGIN:DAYLIGHT
TZOFFSETFROM:-0500
TZOFFSETTO:-0400
TZNAME:EDT
DTSTART:20290311T070000
END:DAYLIGHT
BEGIN:STANDARD
TZOFFSETFROM:-0400
TZOFFSETTO:-0500
TZNAME:EST
DTSTART:20291104T060000
END:STANDARD
END:VTIMEZONE
BEGIN:VEVENT
DTSTART;TZID=America/New_York:20260514T180000
DTEND;TZID=America/New_York:20260514T190000
DTSTAMP:20260420T122519
CREATED:20230302T215233Z
LAST-MODIFIED:20230306T194029Z
UID:10000301-1778781600-1778785200@cincinnatinaacp.com
SUMMARY:Education Committee Meeting
DESCRIPTION:
URL:https://cincinnatinaacp.com/calendar/education-committee-meeting/2026-05-14/
LOCATION:Zoom
CATEGORIES:Meetings
END:VEVENT
BEGIN:VEVENT
DTSTART;TZID=America/New_York:20260611T180000
DTEND;TZID=America/New_York:20260611T190000
DTSTAMP:20260420T122519
CREATED:20230302T215233Z
LAST-MODIFIED:20230306T194029Z
UID:10000302-1781200800-1781204400@cincinnatinaacp.com
SUMMARY:Education Committee Meeting
DESCRIPTION:
URL:https://cincinnatinaacp.com/calendar/education-committee-meeting/2026-06-11/
LOCATION:Zoom
CATEGORIES:Meetings
END:VEVENT
BEGIN:VEVENT
DTSTART;TZID=America/New_York:20260709T180000
DTEND;TZID=America/New_York:20260709T190000
DTSTAMP:20260420T122519
CREATED:20230302T215233Z
LAST-MODIFIED:20230306T194029Z
UID:10000303-1783620000-1783623600@cincinnatinaacp.com
SUMMARY:Education Committee Meeting
DESCRIPTION:
URL:https://cincinnatinaacp.com/calendar/education-committee-meeting/2026-07-09/
LOCATION:Zoom
CATEGORIES:Meetings
END:VEVENT
BEGIN:VEVENT
DTSTART;TZID=America/New_York:20260813T180000
DTEND;TZID=America/New_York:20260813T190000
DTSTAMP:20260420T122519
CREATED:20230302T215233Z
LAST-MODIFIED:20230306T194029Z
UID:10000304-1786644000-1786647600@cincinnatinaacp.com
SUMMARY:Education Committee Meeting
DESCRIPTION:
URL:https://cincinnatinaacp.com/calendar/education-committee-meeting/2026-08-13/
LOCATION:Zoom
CATEGORIES:Meetings
END:VEVENT
BEGIN:VEVENT
DTSTART;TZID=America/New_York:20260910T180000
DTEND;TZID=America/New_York:20260910T190000
DTSTAMP:20260420T122519
CREATED:20230302T215233Z
LAST-MODIFIED:20230306T194029Z
UID:10000305-1789063200-1789066800@cincinnatinaacp.com
SUMMARY:Education Committee Meeting
DESCRIPTION:
URL:https://cincinnatinaacp.com/calendar/education-committee-meeting/2026-09-10/
LOCATION:Zoom
CATEGORIES:Meetings
END:VEVENT
BEGIN:VEVENT
DTSTART;TZID=America/New_York:20261008T180000
DTEND;TZID=America/New_York:20261008T190000
DTSTAMP:20260420T122519
CREATED:20230302T215233Z
LAST-MODIFIED:20230306T194029Z
UID:10000306-1791482400-1791486000@cincinnatinaacp.com
SUMMARY:Education Committee Meeting
DESCRIPTION:
URL:https://cincinnatinaacp.com/calendar/education-committee-meeting/2026-10-08/
LOCATION:Zoom
CATEGORIES:Meetings
END:VEVENT
BEGIN:VEVENT
DTSTART;TZID=America/New_York:20261112T180000
DTEND;TZID=America/New_York:20261112T190000
DTSTAMP:20260420T122519
CREATED:20230302T215233Z
LAST-MODIFIED:20230306T194029Z
UID:10000307-1794506400-1794510000@cincinnatinaacp.com
SUMMARY:Education Committee Meeting
DESCRIPTION:
URL:https://cincinnatinaacp.com/calendar/education-committee-meeting/2026-11-12/
LOCATION:Zoom
CATEGORIES:Meetings
END:VEVENT
BEGIN:VEVENT
DTSTART;TZID=America/New_York:20261210T180000
DTEND;TZID=America/New_York:20261210T190000
DTSTAMP:20260420T122519
CREATED:20230302T215233Z
LAST-MODIFIED:20230306T194029Z
UID:10000308-1796925600-1796929200@cincinnatinaacp.com
SUMMARY:Education Committee Meeting
DESCRIPTION:
URL:https://cincinnatinaacp.com/calendar/education-committee-meeting/2026-12-10/
LOCATION:Zoom
CATEGORIES:Meetings
END:VEVENT
BEGIN:VEVENT
DTSTART;TZID=America/New_York:20270114T180000
DTEND;TZID=America/New_York:20270114T190000
DTSTAMP:20260420T122519
CREATED:20230302T215233Z
LAST-MODIFIED:20230306T194029Z
UID:10000309-1799949600-1799953200@cincinnatinaacp.com
SUMMARY:Education Committee Meeting
DESCRIPTION:
URL:https://cincinnatinaacp.com/calendar/education-committee-meeting/2027-01-14/
LOCATION:Zoom
CATEGORIES:Meetings
END:VEVENT
BEGIN:VEVENT
DTSTART;TZID=America/New_York:20270211T180000
DTEND;TZID=America/New_York:20270211T190000
DTSTAMP:20260420T122519
CREATED:20230302T215233Z
LAST-MODIFIED:20230306T194029Z
UID:10000310-1802368800-1802372400@cincinnatinaacp.com
SUMMARY:Education Committee Meeting
DESCRIPTION:
URL:https://cincinnatinaacp.com/calendar/education-committee-meeting/2027-02-11/
LOCATION:Zoom
CATEGORIES:Meetings
END:VEVENT
BEGIN:VEVENT
DTSTART;TZID=America/New_York:20270311T180000
DTEND;TZID=America/New_York:20270311T190000
DTSTAMP:20260420T122519
CREATED:20230302T215233Z
LAST-MODIFIED:20230306T194029Z
UID:10000311-1804788000-1804791600@cincinnatinaacp.com
SUMMARY:Education Committee Meeting
DESCRIPTION:
URL:https://cincinnatinaacp.com/calendar/education-committee-meeting/2027-03-11/
LOCATION:Zoom
CATEGORIES:Meetings
END:VEVENT
BEGIN:VEVENT
DTSTART;TZID=America/New_York:20270408T180000
DTEND;TZID=America/New_York:20270408T190000
DTSTAMP:20260420T122519
CREATED:20230302T215233Z
LAST-MODIFIED:20230306T194029Z
UID:10000312-1807207200-1807210800@cincinnatinaacp.com
SUMMARY:Education Committee Meeting
DESCRIPTION:
URL:https://cincinnatinaacp.com/calendar/education-committee-meeting/2027-04-08/
LOCATION:Zoom
CATEGORIES:Meetings
END:VEVENT
BEGIN:VEVENT
DTSTART;TZID=America/New_York:20270513T180000
DTEND;TZID=America/New_York:20270513T190000
DTSTAMP:20260420T122519
CREATED:20230302T215233Z
LAST-MODIFIED:20230306T194029Z
UID:10000313-1810231200-1810234800@cincinnatinaacp.com
SUMMARY:Education Committee Meeting
DESCRIPTION:
URL:https://cincinnatinaacp.com/calendar/education-committee-meeting/2027-05-13/
LOCATION:Zoom
CATEGORIES:Meetings
END:VEVENT
BEGIN:VEVENT
DTSTART;TZID=America/New_York:20270610T180000
DTEND;TZID=America/New_York:20270610T190000
DTSTAMP:20260420T122519
CREATED:20230302T215233Z
LAST-MODIFIED:20230306T194029Z
UID:10000314-1812650400-1812654000@cincinnatinaacp.com
SUMMARY:Education Committee Meeting
DESCRIPTION:
URL:https://cincinnatinaacp.com/calendar/education-committee-meeting/2027-06-10/
LOCATION:Zoom
CATEGORIES:Meetings
END:VEVENT
BEGIN:VEVENT
DTSTART;TZID=America/New_York:20270708T180000
DTEND;TZID=America/New_York:20270708T190000
DTSTAMP:20260420T122519
CREATED:20230302T215233Z
LAST-MODIFIED:20230306T194029Z
UID:10000315-1815069600-1815073200@cincinnatinaacp.com
SUMMARY:Education Committee Meeting
DESCRIPTION:
URL:https://cincinnatinaacp.com/calendar/education-committee-meeting/2027-07-08/
LOCATION:Zoom
CATEGORIES:Meetings
END:VEVENT
BEGIN:VEVENT
DTSTART;TZID=America/New_York:20270812T180000
DTEND;TZID=America/New_York:20270812T190000
DTSTAMP:20260420T122519
CREATED:20230302T215233Z
LAST-MODIFIED:20230306T194029Z
UID:10000316-1818093600-1818097200@cincinnatinaacp.com
SUMMARY:Education Committee Meeting
DESCRIPTION:
URL:https://cincinnatinaacp.com/calendar/education-committee-meeting/2027-08-12/
LOCATION:Zoom
CATEGORIES:Meetings
END:VEVENT
BEGIN:VEVENT
DTSTART;TZID=America/New_York:20270909T180000
DTEND;TZID=America/New_York:20270909T190000
DTSTAMP:20260420T122519
CREATED:20230302T215233Z
LAST-MODIFIED:20230306T194029Z
UID:10000317-1820512800-1820516400@cincinnatinaacp.com
SUMMARY:Education Committee Meeting
DESCRIPTION:
URL:https://cincinnatinaacp.com/calendar/education-committee-meeting/2027-09-09/
LOCATION:Zoom
CATEGORIES:Meetings
END:VEVENT
BEGIN:VEVENT
DTSTART;TZID=America/New_York:20271014T180000
DTEND;TZID=America/New_York:20271014T190000
DTSTAMP:20260420T122519
CREATED:20230302T215233Z
LAST-MODIFIED:20230306T194029Z
UID:10000318-1823536800-1823540400@cincinnatinaacp.com
SUMMARY:Education Committee Meeting
DESCRIPTION:
URL:https://cincinnatinaacp.com/calendar/education-committee-meeting/2027-10-14/
LOCATION:Zoom
CATEGORIES:Meetings
END:VEVENT
BEGIN:VEVENT
DTSTART;TZID=America/New_York:20271111T180000
DTEND;TZID=America/New_York:20271111T190000
DTSTAMP:20260420T122519
CREATED:20230302T215233Z
LAST-MODIFIED:20230306T194029Z
UID:10000319-1825956000-1825959600@cincinnatinaacp.com
SUMMARY:Education Committee Meeting
DESCRIPTION:
URL:https://cincinnatinaacp.com/calendar/education-committee-meeting/2027-11-11/
LOCATION:Zoom
CATEGORIES:Meetings
END:VEVENT
BEGIN:VEVENT
DTSTART;TZID=America/New_York:20271209T180000
DTEND;TZID=America/New_York:20271209T190000
DTSTAMP:20260420T122519
CREATED:20230302T215233Z
LAST-MODIFIED:20230306T194029Z
UID:10000320-1828375200-1828378800@cincinnatinaacp.com
SUMMARY:Education Committee Meeting
DESCRIPTION:
URL:https://cincinnatinaacp.com/calendar/education-committee-meeting/2027-12-09/
LOCATION:Zoom
CATEGORIES:Meetings
END:VEVENT
BEGIN:VEVENT
DTSTART;TZID=America/New_York:20280113T180000
DTEND;TZID=America/New_York:20280113T190000
DTSTAMP:20260420T122519
CREATED:20230302T215233Z
LAST-MODIFIED:20230306T194029Z
UID:10000321-1831399200-1831402800@cincinnatinaacp.com
SUMMARY:Education Committee Meeting
DESCRIPTION:
URL:https://cincinnatinaacp.com/calendar/education-committee-meeting/2028-01-13/
LOCATION:Zoom
CATEGORIES:Meetings
END:VEVENT
BEGIN:VEVENT
DTSTART;TZID=America/New_York:20280210T180000
DTEND;TZID=America/New_York:20280210T190000
DTSTAMP:20260420T122519
CREATED:20230302T215233Z
LAST-MODIFIED:20230306T194029Z
UID:10000322-1833818400-1833822000@cincinnatinaacp.com
SUMMARY:Education Committee Meeting
DESCRIPTION:
URL:https://cincinnatinaacp.com/calendar/education-committee-meeting/2028-02-10/
LOCATION:Zoom
CATEGORIES:Meetings
END:VEVENT
END:VCALENDAR