BEGIN:VCALENDAR
VERSION:2.0
PRODID:-//Cincinnati NAACP - ECPv6.15.19//NONSGML v1.0//EN
CALSCALE:GREGORIAN
METHOD:PUBLISH
X-WR-CALNAME:Cincinnati NAACP
X-ORIGINAL-URL:https://cincinnatinaacp.com
X-WR-CALDESC:Events for Cincinnati NAACP
REFRESH-INTERVAL;VALUE=DURATION:PT1H
X-Robots-Tag:noindex
X-PUBLISHED-TTL:PT1H
BEGIN:VTIMEZONE
TZID:America/New_York
BEGIN:DAYLIGHT
TZOFFSETFROM:-0500
TZOFFSETTO:-0400
TZNAME:EDT
DTSTART:20250309T070000
END:DAYLIGHT
BEGIN:STANDARD
TZOFFSETFROM:-0400
TZOFFSETTO:-0500
TZNAME:EST
DTSTART:20251102T060000
END:STANDARD
BEGIN:DAYLIGHT
TZOFFSETFROM:-0500
TZOFFSETTO:-0400
TZNAME:EDT
DTSTART:20260308T070000
END:DAYLIGHT
BEGIN:STANDARD
TZOFFSETFROM:-0400
TZOFFSETTO:-0500
TZNAME:EST
DTSTART:20261101T060000
END:STANDARD
BEGIN:DAYLIGHT
TZOFFSETFROM:-0500
TZOFFSETTO:-0400
TZNAME:EDT
DTSTART:20270314T070000
END:DAYLIGHT
BEGIN:STANDARD
TZOFFSETFROM:-0400
TZOFFSETTO:-0500
TZNAME:EST
DTSTART:20271107T060000
END:STANDARD
BEGIN:DAYLIGHT
TZOFFSETFROM:-0500
TZOFFSETTO:-0400
TZNAME:EDT
DTSTART:20280312T070000
END:DAYLIGHT
BEGIN:STANDARD
TZOFFSETFROM:-0400
TZOFFSETTO:-0500
TZNAME:EST
DTSTART:20281105T060000
END:STANDARD
BEGIN:DAYLIGHT
TZOFFSETFROM:-0500
TZOFFSETTO:-0400
TZNAME:EDT
DTSTART:20290311T070000
END:DAYLIGHT
BEGIN:STANDARD
TZOFFSETFROM:-0400
TZOFFSETTO:-0500
TZNAME:EST
DTSTART:20291104T060000
END:STANDARD
END:VTIMEZONE
BEGIN:VEVENT
DTSTART;TZID=America/New_York:20260506T170000
DTEND;TZID=America/New_York:20260506T180000
DTSTAMP:20260424T100915
CREATED:20230511T145332Z
LAST-MODIFIED:20230511T145332Z
UID:10000568-1778086800-1778090400@cincinnatinaacp.com
SUMMARY:Housing Committee Meeting
DESCRIPTION:
URL:https://cincinnatinaacp.com/calendar/housing-committee-meeting-2/2026-05-06/
LOCATION:Zoom
CATEGORIES:Meetings
END:VEVENT
BEGIN:VEVENT
DTSTART;TZID=America/New_York:20260603T170000
DTEND;TZID=America/New_York:20260603T180000
DTSTAMP:20260424T100915
CREATED:20230511T145332Z
LAST-MODIFIED:20230511T145332Z
UID:10000569-1780506000-1780509600@cincinnatinaacp.com
SUMMARY:Housing Committee Meeting
DESCRIPTION:
URL:https://cincinnatinaacp.com/calendar/housing-committee-meeting-2/2026-06-03/
LOCATION:Zoom
CATEGORIES:Meetings
END:VEVENT
BEGIN:VEVENT
DTSTART;TZID=America/New_York:20260701T170000
DTEND;TZID=America/New_York:20260701T180000
DTSTAMP:20260424T100915
CREATED:20230511T145332Z
LAST-MODIFIED:20230511T145332Z
UID:10000570-1782925200-1782928800@cincinnatinaacp.com
SUMMARY:Housing Committee Meeting
DESCRIPTION:
URL:https://cincinnatinaacp.com/calendar/housing-committee-meeting-2/2026-07-01/
LOCATION:Zoom
CATEGORIES:Meetings
END:VEVENT
BEGIN:VEVENT
DTSTART;TZID=America/New_York:20260805T170000
DTEND;TZID=America/New_York:20260805T180000
DTSTAMP:20260424T100915
CREATED:20230511T145332Z
LAST-MODIFIED:20230511T145332Z
UID:10000571-1785949200-1785952800@cincinnatinaacp.com
SUMMARY:Housing Committee Meeting
DESCRIPTION:
URL:https://cincinnatinaacp.com/calendar/housing-committee-meeting-2/2026-08-05/
LOCATION:Zoom
CATEGORIES:Meetings
END:VEVENT
BEGIN:VEVENT
DTSTART;TZID=America/New_York:20260902T170000
DTEND;TZID=America/New_York:20260902T180000
DTSTAMP:20260424T100915
CREATED:20230511T145332Z
LAST-MODIFIED:20230511T145332Z
UID:10000572-1788368400-1788372000@cincinnatinaacp.com
SUMMARY:Housing Committee Meeting
DESCRIPTION:
URL:https://cincinnatinaacp.com/calendar/housing-committee-meeting-2/2026-09-02/
LOCATION:Zoom
CATEGORIES:Meetings
END:VEVENT
BEGIN:VEVENT
DTSTART;TZID=America/New_York:20261007T170000
DTEND;TZID=America/New_York:20261007T180000
DTSTAMP:20260424T100915
CREATED:20230511T145332Z
LAST-MODIFIED:20230511T145332Z
UID:10000573-1791392400-1791396000@cincinnatinaacp.com
SUMMARY:Housing Committee Meeting
DESCRIPTION:
URL:https://cincinnatinaacp.com/calendar/housing-committee-meeting-2/2026-10-07/
LOCATION:Zoom
CATEGORIES:Meetings
END:VEVENT
BEGIN:VEVENT
DTSTART;TZID=America/New_York:20261104T170000
DTEND;TZID=America/New_York:20261104T180000
DTSTAMP:20260424T100915
CREATED:20230511T145332Z
LAST-MODIFIED:20230511T145332Z
UID:10000574-1793811600-1793815200@cincinnatinaacp.com
SUMMARY:Housing Committee Meeting
DESCRIPTION:
URL:https://cincinnatinaacp.com/calendar/housing-committee-meeting-2/2026-11-04/
LOCATION:Zoom
CATEGORIES:Meetings
END:VEVENT
BEGIN:VEVENT
DTSTART;TZID=America/New_York:20261202T170000
DTEND;TZID=America/New_York:20261202T180000
DTSTAMP:20260424T100915
CREATED:20230511T145332Z
LAST-MODIFIED:20230511T145332Z
UID:10000575-1796230800-1796234400@cincinnatinaacp.com
SUMMARY:Housing Committee Meeting
DESCRIPTION:
URL:https://cincinnatinaacp.com/calendar/housing-committee-meeting-2/2026-12-02/
LOCATION:Zoom
CATEGORIES:Meetings
END:VEVENT
BEGIN:VEVENT
DTSTART;TZID=America/New_York:20270106T170000
DTEND;TZID=America/New_York:20270106T180000
DTSTAMP:20260424T100915
CREATED:20230511T145332Z
LAST-MODIFIED:20230511T145332Z
UID:10000576-1799254800-1799258400@cincinnatinaacp.com
SUMMARY:Housing Committee Meeting
DESCRIPTION:
URL:https://cincinnatinaacp.com/calendar/housing-committee-meeting-2/2027-01-06/
LOCATION:Zoom
CATEGORIES:Meetings
END:VEVENT
BEGIN:VEVENT
DTSTART;TZID=America/New_York:20270203T170000
DTEND;TZID=America/New_York:20270203T180000
DTSTAMP:20260424T100915
CREATED:20230511T145332Z
LAST-MODIFIED:20230511T145332Z
UID:10000577-1801674000-1801677600@cincinnatinaacp.com
SUMMARY:Housing Committee Meeting
DESCRIPTION:
URL:https://cincinnatinaacp.com/calendar/housing-committee-meeting-2/2027-02-03/
LOCATION:Zoom
CATEGORIES:Meetings
END:VEVENT
BEGIN:VEVENT
DTSTART;TZID=America/New_York:20270303T170000
DTEND;TZID=America/New_York:20270303T180000
DTSTAMP:20260424T100915
CREATED:20230511T145332Z
LAST-MODIFIED:20230511T145332Z
UID:10000578-1804093200-1804096800@cincinnatinaacp.com
SUMMARY:Housing Committee Meeting
DESCRIPTION:
URL:https://cincinnatinaacp.com/calendar/housing-committee-meeting-2/2027-03-03/
LOCATION:Zoom
CATEGORIES:Meetings
END:VEVENT
BEGIN:VEVENT
DTSTART;TZID=America/New_York:20270407T170000
DTEND;TZID=America/New_York:20270407T180000
DTSTAMP:20260424T100915
CREATED:20230511T145332Z
LAST-MODIFIED:20230511T145332Z
UID:10000579-1807117200-1807120800@cincinnatinaacp.com
SUMMARY:Housing Committee Meeting
DESCRIPTION:
URL:https://cincinnatinaacp.com/calendar/housing-committee-meeting-2/2027-04-07/
LOCATION:Zoom
CATEGORIES:Meetings
END:VEVENT
BEGIN:VEVENT
DTSTART;TZID=America/New_York:20270505T170000
DTEND;TZID=America/New_York:20270505T180000
DTSTAMP:20260424T100915
CREATED:20230511T145332Z
LAST-MODIFIED:20230511T145332Z
UID:10000580-1809536400-1809540000@cincinnatinaacp.com
SUMMARY:Housing Committee Meeting
DESCRIPTION:
URL:https://cincinnatinaacp.com/calendar/housing-committee-meeting-2/2027-05-05/
LOCATION:Zoom
CATEGORIES:Meetings
END:VEVENT
BEGIN:VEVENT
DTSTART;TZID=America/New_York:20270602T170000
DTEND;TZID=America/New_York:20270602T180000
DTSTAMP:20260424T100915
CREATED:20230511T145332Z
LAST-MODIFIED:20230511T145332Z
UID:10000581-1811955600-1811959200@cincinnatinaacp.com
SUMMARY:Housing Committee Meeting
DESCRIPTION:
URL:https://cincinnatinaacp.com/calendar/housing-committee-meeting-2/2027-06-02/
LOCATION:Zoom
CATEGORIES:Meetings
END:VEVENT
BEGIN:VEVENT
DTSTART;TZID=America/New_York:20270707T170000
DTEND;TZID=America/New_York:20270707T180000
DTSTAMP:20260424T100915
CREATED:20230511T145332Z
LAST-MODIFIED:20230511T145332Z
UID:10000582-1814979600-1814983200@cincinnatinaacp.com
SUMMARY:Housing Committee Meeting
DESCRIPTION:
URL:https://cincinnatinaacp.com/calendar/housing-committee-meeting-2/2027-07-07/
LOCATION:Zoom
CATEGORIES:Meetings
END:VEVENT
BEGIN:VEVENT
DTSTART;TZID=America/New_York:20270804T170000
DTEND;TZID=America/New_York:20270804T180000
DTSTAMP:20260424T100915
CREATED:20230511T145332Z
LAST-MODIFIED:20230511T145332Z
UID:10000583-1817398800-1817402400@cincinnatinaacp.com
SUMMARY:Housing Committee Meeting
DESCRIPTION:
URL:https://cincinnatinaacp.com/calendar/housing-committee-meeting-2/2027-08-04/
LOCATION:Zoom
CATEGORIES:Meetings
END:VEVENT
BEGIN:VEVENT
DTSTART;TZID=America/New_York:20270901T170000
DTEND;TZID=America/New_York:20270901T180000
DTSTAMP:20260424T100915
CREATED:20230511T145332Z
LAST-MODIFIED:20230511T145332Z
UID:10000584-1819818000-1819821600@cincinnatinaacp.com
SUMMARY:Housing Committee Meeting
DESCRIPTION:
URL:https://cincinnatinaacp.com/calendar/housing-committee-meeting-2/2027-09-01/
LOCATION:Zoom
CATEGORIES:Meetings
END:VEVENT
BEGIN:VEVENT
DTSTART;TZID=America/New_York:20271006T170000
DTEND;TZID=America/New_York:20271006T180000
DTSTAMP:20260424T100915
CREATED:20230511T145332Z
LAST-MODIFIED:20230511T145332Z
UID:10000585-1822842000-1822845600@cincinnatinaacp.com
SUMMARY:Housing Committee Meeting
DESCRIPTION:
URL:https://cincinnatinaacp.com/calendar/housing-committee-meeting-2/2027-10-06/
LOCATION:Zoom
CATEGORIES:Meetings
END:VEVENT
BEGIN:VEVENT
DTSTART;TZID=America/New_York:20271103T170000
DTEND;TZID=America/New_York:20271103T180000
DTSTAMP:20260424T100915
CREATED:20230511T145332Z
LAST-MODIFIED:20230511T145332Z
UID:10000586-1825261200-1825264800@cincinnatinaacp.com
SUMMARY:Housing Committee Meeting
DESCRIPTION:
URL:https://cincinnatinaacp.com/calendar/housing-committee-meeting-2/2027-11-03/
LOCATION:Zoom
CATEGORIES:Meetings
END:VEVENT
BEGIN:VEVENT
DTSTART;TZID=America/New_York:20271201T170000
DTEND;TZID=America/New_York:20271201T180000
DTSTAMP:20260424T100915
CREATED:20230511T145332Z
LAST-MODIFIED:20230511T145332Z
UID:10000587-1827680400-1827684000@cincinnatinaacp.com
SUMMARY:Housing Committee Meeting
DESCRIPTION:
URL:https://cincinnatinaacp.com/calendar/housing-committee-meeting-2/2027-12-01/
LOCATION:Zoom
CATEGORIES:Meetings
END:VEVENT
BEGIN:VEVENT
DTSTART;TZID=America/New_York:20280105T170000
DTEND;TZID=America/New_York:20280105T180000
DTSTAMP:20260424T100915
CREATED:20230511T145332Z
LAST-MODIFIED:20230511T145332Z
UID:10000588-1830704400-1830708000@cincinnatinaacp.com
SUMMARY:Housing Committee Meeting
DESCRIPTION:
URL:https://cincinnatinaacp.com/calendar/housing-committee-meeting-2/2028-01-05/
LOCATION:Zoom
CATEGORIES:Meetings
END:VEVENT
BEGIN:VEVENT
DTSTART;TZID=America/New_York:20280202T170000
DTEND;TZID=America/New_York:20280202T180000
DTSTAMP:20260424T100915
CREATED:20230511T145332Z
LAST-MODIFIED:20230511T145332Z
UID:10000589-1833123600-1833127200@cincinnatinaacp.com
SUMMARY:Housing Committee Meeting
DESCRIPTION:
URL:https://cincinnatinaacp.com/calendar/housing-committee-meeting-2/2028-02-02/
LOCATION:Zoom
CATEGORIES:Meetings
END:VEVENT
BEGIN:VEVENT
DTSTART;TZID=America/New_York:20280301T170000
DTEND;TZID=America/New_York:20280301T180000
DTSTAMP:20260424T100915
CREATED:20230511T145332Z
LAST-MODIFIED:20230511T145332Z
UID:10000590-1835542800-1835546400@cincinnatinaacp.com
SUMMARY:Housing Committee Meeting
DESCRIPTION:
URL:https://cincinnatinaacp.com/calendar/housing-committee-meeting-2/2028-03-01/
LOCATION:Zoom
CATEGORIES:Meetings
END:VEVENT
BEGIN:VEVENT
DTSTART;TZID=America/New_York:20280405T170000
DTEND;TZID=America/New_York:20280405T180000
DTSTAMP:20260424T100915
CREATED:20230511T145332Z
LAST-MODIFIED:20230511T145332Z
UID:10000591-1838566800-1838570400@cincinnatinaacp.com
SUMMARY:Housing Committee Meeting
DESCRIPTION:
URL:https://cincinnatinaacp.com/calendar/housing-committee-meeting-2/2028-04-05/
LOCATION:Zoom
CATEGORIES:Meetings
END:VEVENT
BEGIN:VEVENT
DTSTART;TZID=America/New_York:20280503T170000
DTEND;TZID=America/New_York:20280503T180000
DTSTAMP:20260424T100915
CREATED:20230511T145332Z
LAST-MODIFIED:20230511T145332Z
UID:10000592-1840986000-1840989600@cincinnatinaacp.com
SUMMARY:Housing Committee Meeting
DESCRIPTION:
URL:https://cincinnatinaacp.com/calendar/housing-committee-meeting-2/2028-05-03/
LOCATION:Zoom
CATEGORIES:Meetings
END:VEVENT
END:VCALENDAR